BEGIN:VCALENDAR
VERSION:2.0
PRODID:-//wp-events-plugin.com//7.2.3.1//EN
TZID:Europe/London
X-WR-TIMEZONE:Europe/London
BEGIN:VEVENT
UID:14@wkps.org.uk
DTSTART;TZID=Europe/London:20260621T093000
DTEND;TZID=Europe/London:20260621T103000
DTSTAMP:20260130T145052Z
URL:https://wkps.org.uk/upcoming-events/summer-solstice-walk/
SUMMARY:Summer Solstice Walk
DESCRIPTION:Join us with (or without) your well behaved dogs for a walk to 
 celebrate the Summer Solstice.  The Solstice is actually at 9.24am so we 
 will meet shortly after and have a walk in Hemsted Woods.\n\nThe event is 
 free to members.
LOCATION:Cranbrook\, Cranbrook\, Kent\, United Kingdom
X-APPLE-STRUCTURED-LOCATION;VALUE=URI;X-ADDRESS=Cranbrook\, Kent\, United K
 ingdom;X-APPLE-RADIUS=100;X-TITLE=Cranbrook:geo:0,0
END:VEVENT
BEGIN:VTIMEZONE
TZID:Europe/London
X-LIC-LOCATION:Europe/London
BEGIN:DAYLIGHT
DTSTART:20260329T020000
TZOFFSETFROM:+0000
TZOFFSETTO:+0100
TZNAME:BST
END:DAYLIGHT
END:VTIMEZONE
END:VCALENDAR